BEGIN:VCALENDAR
VERSION:2.0
PRODID:-//Hendricks Minnesota - ECPv6.15.20//NONSGML v1.0//EN
CALSCALE:GREGORIAN
METHOD:PUBLISH
X-ORIGINAL-URL:https://hendricksmn.net
X-WR-CALDESC:Events for Hendricks Minnesota
REFRESH-INTERVAL;VALUE=DURATION:PT1H
X-Robots-Tag:noindex
X-PUBLISHED-TTL:PT1H
BEGIN:VTIMEZONE
TZID:America/Chicago
BEGIN:DAYLIGHT
TZOFFSETFROM:-0600
TZOFFSETTO:-0500
TZNAME:CDT
DTSTART:20250309T080000
END:DAYLIGHT
BEGIN:STANDARD
TZOFFSETFROM:-0500
TZOFFSETTO:-0600
TZNAME:CST
DTSTART:20251102T070000
END:STANDARD
BEGIN:DAYLIGHT
TZOFFSETFROM:-0600
TZOFFSETTO:-0500
TZNAME:CDT
DTSTART:20260308T080000
END:DAYLIGHT
BEGIN:STANDARD
TZOFFSETFROM:-0500
TZOFFSETTO:-0600
TZNAME:CST
DTSTART:20261101T070000
END:STANDARD
BEGIN:DAYLIGHT
TZOFFSETFROM:-0600
TZOFFSETTO:-0500
TZNAME:CDT
DTSTART:20270314T080000
END:DAYLIGHT
BEGIN:STANDARD
TZOFFSETFROM:-0500
TZOFFSETTO:-0600
TZNAME:CST
DTSTART:20271107T070000
END:STANDARD
END:VTIMEZONE
BEGIN:VEVENT
DTSTART;VALUE=DATE:20260404
DTEND;VALUE=DATE:20260405
DTSTAMP:20260423T065154
CREATED:20260301T022401Z
LAST-MODIFIED:20260301T234555Z
UID:2399-1775260800-1775347199@hendricksmn.net
SUMMARY:Saturday\, April 4 - Downtown Hendricks\, MN
DESCRIPTION:The Hendricks Community Club is collecting donations of individually wrapped mini candy\, plastic eggs\, and items for the prize drawings following the hunt. Donations can be dropped off at Studio 117 or Hendricks City Hall.
URL:https://hendricksmn.net/event/saturday-april-4-downtown-hendricks-mn/
END:VEVENT
BEGIN:VEVENT
DTSTART;VALUE=DATE:20260328
DTEND;VALUE=DATE:20260329
DTSTAMP:20260423T065154
CREATED:20260301T022336Z
LAST-MODIFIED:20260301T234555Z
UID:2397-1774656000-1774742399@hendricksmn.net
SUMMARY:Saturday\, March 28 at the Hendricks Fire Hall
DESCRIPTION:Enjoy a night of good food\, friends\, and a chance to win some awesome prizes at the Lake Hendricks Improvement Association Indoor Fishing BINGO Banquet. Doors open 5pm.
URL:https://hendricksmn.net/event/saturday-march-28-at-the-hendricks-fire-hall/
END:VEVENT
BEGIN:VEVENT
DTSTART;VALUE=DATE:20260323
DTEND;VALUE=DATE:20260324
DTSTAMP:20260423T065154
CREATED:20260301T022249Z
LAST-MODIFIED:20260301T234555Z
UID:2395-1774224000-1774310399@hendricksmn.net
SUMMARY:Monday\, March 23 in the HCHA Chapel at 6pm
DESCRIPTION:HCHA will be hosting a community event focused on healthy eating and maintaining a healthy lifestyle\, coordinated by Falon Paluch. Our Dietician\, Megan Wiesner\, will present on prediabetes alongside Nurse Practitioner\, Kathy Christensen. Join us for an evening of valuable information\, recipe sharing\, and nutritious food!
URL:https://hendricksmn.net/event/monday-march-23-in-the-hcha-chapel-at-6pm/
END:VEVENT
BEGIN:VEVENT
DTSTART;VALUE=DATE:20260307
DTEND;VALUE=DATE:20260308
DTSTAMP:20260423T065154
CREATED:20260301T022128Z
LAST-MODIFIED:20260301T234556Z
UID:2393-1772841600-1772927999@hendricksmn.net
SUMMARY:Good Shepherd Hospice Fundraiser\, Saturday\, March 7 at Gatsby’s Event Center
DESCRIPTION:Good Shepherd Hospice Fundraiser from 5pm-9pm. Tickets are SOLD OUT. \nSaturday\, March 7 at Gatsby’s Event Center
URL:https://hendricksmn.net/event/good-shepherd-hospice-fundraise/
END:VEVENT
END:VCALENDAR